BEGIN:VCALENDAR
VERSION:2.0
PRODID:-//MoyoSore and Alade Hope Foundation - ECPv6.15.12.2//NONSGML v1.0//EN
CALSCALE:GREGORIAN
METHOD:PUBLISH
X-ORIGINAL-URL:https://mahf.international
X-WR-CALDESC:Events for MoyoSore and Alade Hope Foundation
REFRESH-INTERVAL;VALUE=DURATION:PT1H
X-Robots-Tag:noindex
X-PUBLISHED-TTL:PT1H
BEGIN:VTIMEZONE
TZID:Europe/Paris
BEGIN:DAYLIGHT
TZOFFSETFROM:+0100
TZOFFSETTO:+0200
TZNAME:CEST
DTSTART:20240331T010000
END:DAYLIGHT
BEGIN:STANDARD
TZOFFSETFROM:+0200
TZOFFSETTO:+0100
TZNAME:CET
DTSTART:20241027T010000
END:STANDARD
BEGIN:DAYLIGHT
TZOFFSETFROM:+0100
TZOFFSETTO:+0200
TZNAME:CEST
DTSTART:20250330T010000
END:DAYLIGHT
BEGIN:STANDARD
TZOFFSETFROM:+0200
TZOFFSETTO:+0100
TZNAME:CET
DTSTART:20251026T010000
END:STANDARD
BEGIN:DAYLIGHT
TZOFFSETFROM:+0100
TZOFFSETTO:+0200
TZNAME:CEST
DTSTART:20260329T010000
END:DAYLIGHT
BEGIN:STANDARD
TZOFFSETFROM:+0200
TZOFFSETTO:+0100
TZNAME:CET
DTSTART:20261025T010000
END:STANDARD
END:VTIMEZONE
BEGIN:VTIMEZONE
TZID:UTC
BEGIN:STANDARD
TZOFFSETFROM:+0000
TZOFFSETTO:+0000
TZNAME:UTC
DTSTART:20200101T000000
END:STANDARD
END:VTIMEZONE
BEGIN:VEVENT
DTSTART;TZID=Europe/Paris:20250920T100000
DTEND;TZID=Europe/Paris:20250920T113000
DTSTAMP:20260419T142108
CREATED:20250902T065304Z
LAST-MODIFIED:20250914T005346Z
UID:11708-1758362400-1758367800@mahf.international
SUMMARY:Forex Trading Questions and Answers
DESCRIPTION:Join us for an interactive session where we address your burning questions about Forex trading. Whether you’re a beginner or an experienced trader\, this event is designed to provide valuable insights into the world of Forex. Our expert panel will guide you through the basics of currency trading\, share advanced strategies\, and answer any questions you have about the market. \nThis session will cover: \n\nHow to Open a Forex Demo Trading Account\nHow to Choose a Broker\nHow to use an Economic Calendar\nHow to use Technical Analysis and Fundamental Analysis\nAnd much more!\n\nDon’t miss the chance to engage directly with our experts and gain practical knowledge to enhance your trading skills. Bring your questions and get ready for an informative discussion!
URL:https://mahf.international/event/forex-trading-questions-and-answers/
ATTACH;FMTTYPE=image/jpeg:https://mahf.international/wp-content/uploads/2025/09/faq-mahf.jpg
END:VEVENT
BEGIN:VEVENT
DTSTART;TZID=Europe/Paris:20250820T180000
DTEND;TZID=Europe/Paris:20250822T210000
DTSTAMP:20260419T142108
CREATED:20250730T041352Z
LAST-MODIFIED:20250804T220653Z
UID:11527-1755712800-1755896400@mahf.international
SUMMARY:Introduction to Forex Trading from Anywhere
DESCRIPTION:Event Details:Are you ready to start your journey in the world of Forex trading? Join us for a comprehensive\, hands-on Introduction to Forex Trading where you will learn the essential skills and strategies to become a successful Forex trader\, from anywhere in the world. \nEvent Topics: \n\nThe Retail Forex Trader\nThe Fundamental Forex Trader\nThe Technical Forex Trader\nForex Trading Strategies\nDeveloping a Trading Plan\n\nWhether you’re new to Forex trading or looking to sharpen your skills\, this event is designed to help you understand the key aspects of the Forex market and equip you with practical tools to succeed. \nEvent Highlights: \n\nLive sessions with experts in the field.\nReal-world trading examples.\nQ&A session for personalized guidance.\nFree access to all attendees.\n\nDon’t miss this opportunity to gain valuable insights into Forex trading and take the first step toward financial freedom.
URL:https://mahf.international/event/introduction-to-forex-trading-from-anywhere/
LOCATION:Online
ATTACH;FMTTYPE=image/jpeg:https://mahf.international/wp-content/uploads/2025/07/event-banner-3.jpg
END:VEVENT
BEGIN:VEVENT
DTSTART;TZID=UTC:20211223T150000
DTEND;TZID=UTC:20211223T180000
DTSTAMP:20260419T142108
CREATED:20211118T151832Z
LAST-MODIFIED:20211122T061517Z
UID:10780-1640271600-1640282400@mahf.international
SUMMARY:Sepeteri Inauguration meeting
DESCRIPTION:
URL:https://mahf.international/event/sepeteri-inauguration-meeting/
LOCATION:Sepeteri’s Address\, Oke Taasi\, Sepeteri\, Oyo State\, Nigeria
CATEGORIES:Conference,Meeting
ATTACH;FMTTYPE=image/png:https://mahf.international/wp-content/uploads/2021/08/logo_a.png
END:VEVENT
BEGIN:VEVENT
DTSTART;TZID=UTC:20211220T080000
DTEND;TZID=UTC:20211220T170000
DTSTAMP:20260419T142108
CREATED:20211118T153700Z
LAST-MODIFIED:20211119T060729Z
UID:10784-1639987200-1640019600@mahf.international
SUMMARY:Ede Inaugural Meeting
DESCRIPTION:
URL:https://mahf.international/event/ede-inaugural-meeting/
CATEGORIES:Conference,Meeting
END:VEVENT
BEGIN:VEVENT
DTSTART;TZID=UTC:20211128T153000
DTEND;TZID=UTC:20211128T170000
DTSTAMP:20260419T142108
CREATED:20211118T151333Z
LAST-MODIFIED:20211122T061656Z
UID:10761-1638113400-1638118800@mahf.international
SUMMARY:Inaugural Prayer Meeting
DESCRIPTION:
URL:https://mahf.international/event/inaugural-prayer-meeting/
LOCATION:Lagos Address\, 67\, Fafunmi\, Command\, Lagos\, Lagos\, Nigeria
CATEGORIES:Meeting
ATTACH;FMTTYPE=image/png:https://mahf.international/wp-content/uploads/2021/08/logo_a.png
END:VEVENT
END:VCALENDAR